BEGIN:VCALENDAR
VERSION:2.0
PRODID:-//California Homeschool Network - ECPv6.15.20//NONSGML v1.0//EN
CALSCALE:GREGORIAN
METHOD:PUBLISH
X-ORIGINAL-URL:https://californiahomeschool.net
X-WR-CALDESC:Events for California Homeschool Network
REFRESH-INTERVAL;VALUE=DURATION:PT1H
X-Robots-Tag:noindex
X-PUBLISHED-TTL:PT1H
BEGIN:VTIMEZONE
TZID:America/Los_Angeles
BEGIN:DAYLIGHT
TZOFFSETFROM:-0800
TZOFFSETTO:-0700
TZNAME:PDT
DTSTART:20230312T100000
END:DAYLIGHT
BEGIN:STANDARD
TZOFFSETFROM:-0700
TZOFFSETTO:-0800
TZNAME:PST
DTSTART:20231105T090000
END:STANDARD
BEGIN:DAYLIGHT
TZOFFSETFROM:-0800
TZOFFSETTO:-0700
TZNAME:PDT
DTSTART:20240310T100000
END:DAYLIGHT
BEGIN:STANDARD
TZOFFSETFROM:-0700
TZOFFSETTO:-0800
TZNAME:PST
DTSTART:20241103T090000
END:STANDARD
BEGIN:DAYLIGHT
TZOFFSETFROM:-0800
TZOFFSETTO:-0700
TZNAME:PDT
DTSTART:20250309T100000
END:DAYLIGHT
BEGIN:STANDARD
TZOFFSETFROM:-0700
TZOFFSETTO:-0800
TZNAME:PST
DTSTART:20251102T090000
END:STANDARD
END:VTIMEZONE
BEGIN:VEVENT
DTSTART;TZID=America/Los_Angeles:20240806T190000
DTEND;TZID=America/Los_Angeles:20240806T200000
DTSTAMP:20260421T145658
CREATED:20240607T204923Z
LAST-MODIFIED:20240726T183535Z
UID:1615-1722970800-1722974400@californiahomeschool.net
SUMMARY:Teaching Tips & Tricks Workshop
DESCRIPTION:Teacher Tips & Tricks: Simple strategies to make the most of your time together.  \nAre you new to homeschooling? Or maybe struggling to keep your kiddos engaged? Come join CHN as we share fun and easy techniques to elevate your teaching. Gain practical tools to equip you in assessing your child’s understanding of lessons and how to “Read between the lines” to find hints to their individual learning style and personal interests. \nWorkshops are interactive and questions or comments are welcomed by attendees. \nPlease register here.
URL:https://californiahomeschool.net/event/teaching-tips-tricks-workshop-2/
LOCATION:Online
CATEGORIES:Teaching,Workshop
END:VEVENT
BEGIN:VEVENT
DTSTART;TZID=America/Los_Angeles:20240810T130000
DTEND;TZID=America/Los_Angeles:20240810T140000
DTSTAMP:20260421T145658
CREATED:20240607T204642Z
LAST-MODIFIED:20240628T030833Z
UID:1613-1723294800-1723298400@californiahomeschool.net
SUMMARY:Teaching Tips & Tricks Workshop
DESCRIPTION:Teacher Tips & Tricks: Simple strategies to make the most of your time together.  \nAre you new to homeschooling? Or maybe struggling to keep your kiddos engaged? Come join CHN as we share fun and easy techniques to elevate your teaching. Gain practical tools to equip you in assessing your child’s understanding of lessons and how to “Read between the lines” to find hints to their individual learning style and personal interests. \nWorkshops are interactive and questions or comments are welcomed by attendees. \nPlease register here.
URL:https://californiahomeschool.net/event/teaching-tips-tricks-workshop/
LOCATION:Online
CATEGORIES:Teaching,Workshop
END:VEVENT
BEGIN:VEVENT
DTSTART;TZID=America/Los_Angeles:20240831T130000
DTEND;TZID=America/Los_Angeles:20240831T140000
DTSTAMP:20260421T145658
CREATED:20240607T205321Z
LAST-MODIFIED:20240814T190153Z
UID:1619-1725109200-1725112800@californiahomeschool.net
SUMMARY:Homeschooling Multiple Ages Workshop
DESCRIPTION:Homeschooling Multiple Ages: How to work with kids of different levels at the same time. \nJoin the homeschooling mama of 8 as she guides you through creative ways to balance the needs of different ages\, levels\, and abilities of kiddos all under the same roof. Learn engaging methods to working together and strategies for independent study time. This session will offer opportunities for Q & A and Bonus tips on how to occupy babies and toddlers while teaching your older children. \nWorkshops are interactive and questions or comments are welcomed by attendees. This is a small group workshop\, which will not be recorded\, but video and a microphone are required for participation. \nPlease register here.
URL:https://californiahomeschool.net/event/homeschooling-multiple-ages-workshop-2/
LOCATION:Online
CATEGORIES:Online,Workshop
END:VEVENT
END:VCALENDAR