BEGIN:VCALENDAR
VERSION:2.0
PRODID:-//California Homeschool Network - ECPv6.15.20//NONSGML v1.0//EN
CALSCALE:GREGORIAN
METHOD:PUBLISH
X-ORIGINAL-URL:https://californiahomeschool.net
X-WR-CALDESC:Events for California Homeschool Network
REFRESH-INTERVAL;VALUE=DURATION:PT1H
X-Robots-Tag:noindex
X-PUBLISHED-TTL:PT1H
BEGIN:VTIMEZONE
TZID:America/Los_Angeles
BEGIN:DAYLIGHT
TZOFFSETFROM:-0800
TZOFFSETTO:-0700
TZNAME:PDT
DTSTART:20240310T100000
END:DAYLIGHT
BEGIN:STANDARD
TZOFFSETFROM:-0700
TZOFFSETTO:-0800
TZNAME:PST
DTSTART:20241103T090000
END:STANDARD
BEGIN:DAYLIGHT
TZOFFSETFROM:-0800
TZOFFSETTO:-0700
TZNAME:PDT
DTSTART:20250309T100000
END:DAYLIGHT
BEGIN:STANDARD
TZOFFSETFROM:-0700
TZOFFSETTO:-0800
TZNAME:PST
DTSTART:20251102T090000
END:STANDARD
BEGIN:DAYLIGHT
TZOFFSETFROM:-0800
TZOFFSETTO:-0700
TZNAME:PDT
DTSTART:20260308T100000
END:DAYLIGHT
BEGIN:STANDARD
TZOFFSETFROM:-0700
TZOFFSETTO:-0800
TZNAME:PST
DTSTART:20261101T090000
END:STANDARD
END:VTIMEZONE
BEGIN:VEVENT
DTSTART;TZID=America/Los_Angeles:20251021T190000
DTEND;TZID=America/Los_Angeles:20251021T200000
DTSTAMP:20260420T112952
CREATED:20250930T131958Z
LAST-MODIFIED:20251021T142647Z
UID:2242-1761073200-1761076800@californiahomeschool.net
SUMMARY:Homeschooling Littles: Pre-K & K
DESCRIPTION:Those with little ones… Join California Homeschool Network (CHN) for an enlightening online workshop on homeschooling preschool through kindergarten. Discover your invaluable role as the first and best teacher for your children. Embrace a learning lifestyle that prioritizes natural learning opportunities over rushing into formal education. Let’s savor the journey of learning together with our littles. \nWorkshops are online through Zoom and are interactive. Attendee participation is encouraged. These are small group workshops\, which will not be recorded\, but video and microphone are required for participation. Because these are small group sessions\, please register by the date below to ensure your spot. \n 
URL:https://californiahomeschool.net/event/homeschooling-littles-pre-k-k/
LOCATION:Online
CATEGORIES:Online,Workshop
END:VEVENT
END:VCALENDAR