BEGIN:VCALENDAR
VERSION:2.0
PRODID:-//California Homeschool Network - ECPv6.15.20//NONSGML v1.0//EN
CALSCALE:GREGORIAN
METHOD:PUBLISH
X-ORIGINAL-URL:https://californiahomeschool.net
X-WR-CALDESC:Events for California Homeschool Network
REFRESH-INTERVAL;VALUE=DURATION:PT1H
X-Robots-Tag:noindex
X-PUBLISHED-TTL:PT1H
BEGIN:VTIMEZONE
TZID:America/Los_Angeles
BEGIN:DAYLIGHT
TZOFFSETFROM:-0800
TZOFFSETTO:-0700
TZNAME:PDT
DTSTART:20240310T100000
END:DAYLIGHT
BEGIN:STANDARD
TZOFFSETFROM:-0700
TZOFFSETTO:-0800
TZNAME:PST
DTSTART:20241103T090000
END:STANDARD
BEGIN:DAYLIGHT
TZOFFSETFROM:-0800
TZOFFSETTO:-0700
TZNAME:PDT
DTSTART:20250309T100000
END:DAYLIGHT
BEGIN:STANDARD
TZOFFSETFROM:-0700
TZOFFSETTO:-0800
TZNAME:PST
DTSTART:20251102T090000
END:STANDARD
BEGIN:DAYLIGHT
TZOFFSETFROM:-0800
TZOFFSETTO:-0700
TZNAME:PDT
DTSTART:20260308T100000
END:DAYLIGHT
BEGIN:STANDARD
TZOFFSETFROM:-0700
TZOFFSETTO:-0800
TZNAME:PST
DTSTART:20261101T090000
END:STANDARD
END:VTIMEZONE
BEGIN:VEVENT
DTSTART;TZID=America/Los_Angeles:20250708T190000
DTEND;TZID=America/Los_Angeles:20250708T200000
DTSTAMP:20260420T155229
CREATED:20250601T233659Z
LAST-MODIFIED:20250611T183334Z
UID:2074-1752001200-1752004800@californiahomeschool.net
SUMMARY:Choose Your Own Homeschool Adventure
DESCRIPTION:For new or exploring homeschool families\nFeeling overwhelmed by all the homeschool options? Come join us for a lighthearted\, interactive session designed to help you discover which homeschooling method best fits your family’s personality\, pace\, and passions! Whether you’re drawn to the freedom of unschooling\, the beauty of Charlotte Mason\, the structure of Classical learning\, or something in between—this class will give you a playful peek into each style. \nWe’ll explore real-life examples\, bust common myths\, and guide you through a fun “adventure map” to help you start your journey with confidence and joy. \nWorkshops are interactive and questions or comments are welcomed by attendees. These are small group workshops\, which will not be recorded\, but video and microphone are required for participation. \nRegister Here
URL:https://californiahomeschool.net/event/choose-your-own-homeschool-adventure/
LOCATION:Online
CATEGORIES:Online,Workshop
END:VEVENT
END:VCALENDAR