BEGIN:VCALENDAR
VERSION:2.0
PRODID:-//California Homeschool Network - ECPv6.15.20//NONSGML v1.0//EN
CALSCALE:GREGORIAN
METHOD:PUBLISH
X-ORIGINAL-URL:https://californiahomeschool.net
X-WR-CALDESC:Events for California Homeschool Network
REFRESH-INTERVAL;VALUE=DURATION:PT1H
X-Robots-Tag:noindex
X-PUBLISHED-TTL:PT1H
BEGIN:VTIMEZONE
TZID:America/Los_Angeles
BEGIN:DAYLIGHT
TZOFFSETFROM:-0800
TZOFFSETTO:-0700
TZNAME:PDT
DTSTART:20240310T100000
END:DAYLIGHT
BEGIN:STANDARD
TZOFFSETFROM:-0700
TZOFFSETTO:-0800
TZNAME:PST
DTSTART:20241103T090000
END:STANDARD
BEGIN:DAYLIGHT
TZOFFSETFROM:-0800
TZOFFSETTO:-0700
TZNAME:PDT
DTSTART:20250309T100000
END:DAYLIGHT
BEGIN:STANDARD
TZOFFSETFROM:-0700
TZOFFSETTO:-0800
TZNAME:PST
DTSTART:20251102T090000
END:STANDARD
BEGIN:DAYLIGHT
TZOFFSETFROM:-0800
TZOFFSETTO:-0700
TZNAME:PDT
DTSTART:20260308T100000
END:DAYLIGHT
BEGIN:STANDARD
TZOFFSETFROM:-0700
TZOFFSETTO:-0800
TZNAME:PST
DTSTART:20261101T090000
END:STANDARD
END:VTIMEZONE
BEGIN:VEVENT
DTSTART;TZID=America/Los_Angeles:20250520T190000
DTEND;TZID=America/Los_Angeles:20250520T200000
DTSTAMP:20260420T184149
CREATED:20240607T194542Z
LAST-MODIFIED:20250507T174818Z
UID:1605-1747767600-1747771200@californiahomeschool.net
SUMMARY:Homeschooling Quick Start Workshop
DESCRIPTION:Homeschooling Quick Start: The what\, when\, where\, why and how to begin. – Are you curious about homeschooling? Ever wonder if it’s something for you? Need help on where to begin? Then come join this interactive workshop where we will share the basics and talk about how it can best fit your family. Plus\, leave with a Quick Start plan on what steps to take next. \nOur online Zoom workshops/sessions are small group meetings\, which will not be recorded\, but video and microphone are required for participation. \nRegister Here.
URL:https://californiahomeschool.net/event/homeschooling-quick-start-workshop-2/
LOCATION:Online
CATEGORIES:Online,Workshop
END:VEVENT
END:VCALENDAR