BEGIN:VCALENDAR
VERSION:2.0
PRODID:-//California Homeschool Network - ECPv6.15.20//NONSGML v1.0//EN
CALSCALE:GREGORIAN
METHOD:PUBLISH
X-ORIGINAL-URL:https://californiahomeschool.net
X-WR-CALDESC:Events for California Homeschool Network
REFRESH-INTERVAL;VALUE=DURATION:PT1H
X-Robots-Tag:noindex
X-PUBLISHED-TTL:PT1H
BEGIN:VTIMEZONE
TZID:America/Los_Angeles
BEGIN:DAYLIGHT
TZOFFSETFROM:-0800
TZOFFSETTO:-0700
TZNAME:PDT
DTSTART:20240310T100000
END:DAYLIGHT
BEGIN:STANDARD
TZOFFSETFROM:-0700
TZOFFSETTO:-0800
TZNAME:PST
DTSTART:20241103T090000
END:STANDARD
BEGIN:DAYLIGHT
TZOFFSETFROM:-0800
TZOFFSETTO:-0700
TZNAME:PDT
DTSTART:20250309T100000
END:DAYLIGHT
BEGIN:STANDARD
TZOFFSETFROM:-0700
TZOFFSETTO:-0800
TZNAME:PST
DTSTART:20251102T090000
END:STANDARD
BEGIN:DAYLIGHT
TZOFFSETFROM:-0800
TZOFFSETTO:-0700
TZNAME:PDT
DTSTART:20260308T100000
END:DAYLIGHT
BEGIN:STANDARD
TZOFFSETFROM:-0700
TZOFFSETTO:-0800
TZNAME:PST
DTSTART:20261101T090000
END:STANDARD
END:VTIMEZONE
BEGIN:VEVENT
DTSTART;TZID=America/Los_Angeles:20250909T190000
DTEND;TZID=America/Los_Angeles:20250909T200000
DTSTAMP:20260420T112825
CREATED:20250831T202539Z
LAST-MODIFIED:20250908T201603Z
UID:2173-1757444400-1757448000@californiahomeschool.net
SUMMARY:Homeschool Basics: You Can Do This!
DESCRIPTION:Homeschool Basics: You Can Do This! Thinking about homeschooling but feeling overwhelmed? You’re not alone—and you’re definitely not without support! \nJoin our Homeschool Basics Zoom session\, designed especially for new and curious parents. We’ll walk you through the essentials\, discuss the most common struggles\, and show you that homeschooling doesn’t require perfection—just a little courage and a whole lot of heart. \nLearn how to get started. \nDiscover flexible options that fit your family. \nConnect with others who are just beginning too. \nNo pressure\, no jargon—just real talk\, helpful tips\, and a community that believes in you. Because you can homeschool… and we’re here to help you every step of the way! \nWorkshops are interactive and attendee participation is encouraged. These are small group workshops\, which will not be recorded\, but video and microphone are required for participation. Because these are small groups\, pre-register by the dates shown on the calendar of events or the zoom registration page to ensure your spot. \nPre-register by September 7th \n 
URL:https://californiahomeschool.net/event/homeschool-basics-you-can-do-this/
LOCATION:Online
CATEGORIES:Workshop
END:VEVENT
BEGIN:VEVENT
DTSTART;TZID=America/Los_Angeles:20250911T190000
DTEND;TZID=America/Los_Angeles:20250911T200000
DTSTAMP:20260420T112825
CREATED:20250831T203559Z
LAST-MODIFIED:20250831T203612Z
UID:2175-1757617200-1757620800@californiahomeschool.net
SUMMARY:Monthly Zoom Support Group
DESCRIPTION:Calling All Homeschool Heroes! Whether you’re brand new to homeschooling or a seasoned pro with glitter glue in your veins\, come join our Monthly Zoom Support Group—a cozy\, members-only chat hosted by the California Homeschool Network. \nSwap stories\, share tips\, ask questions\, or just enjoy some good company with fellow homeschool parents who get it. It’s casual\, encouraging\, and full of heart. \nHappening every month—come as you are\, pajama pants welcome! \nWorkshops are interactive and attendee participation is encouraged. These are small group workshops\, which will not be recorded\, but video and microphone are required for participation. Because these are small groups\, pre-register by the dates shown on the calendar of events or the zoom registration page to ensure your spot. \nPre-register here by September 9th
URL:https://californiahomeschool.net/event/monthly-zoom-support-group/
LOCATION:Online
CATEGORIES:Workshop
END:VEVENT
BEGIN:VEVENT
DTSTART;TZID=America/Los_Angeles:20250916T190000
DTEND;TZID=America/Los_Angeles:20250916T200000
DTSTAMP:20260420T112825
CREATED:20250831T203811Z
LAST-MODIFIED:20250831T203811Z
UID:2178-1758049200-1758052800@californiahomeschool.net
SUMMARY:CHN Ambassador Info Meeting
DESCRIPTION:Become a CHN Ambassador—Because Community Starts with YOU! Love homeschooling? Love sunshine\, field trips\, and making new friends? Then you’re halfway to becoming a California Homeschool Network Ambassador! \nWe’re building vibrant local homeschool communities across California—and we need fun-loving\, big-hearted parents like you to help host park days\, plan adventures\, and bring families together. \nNo experience? No problem. We’ll train you. All you need is a willing heart and a positive attitude (bonus points if you love snacks and playgrounds). \nLet’s make homeschooling feel a little less lonely and a lot more awesome—one park day at a time! \nWorkshops are interactive and attendee participation is encouraged. These are small group workshops\, which will not be recorded\, but video and microphone are required for participation. Because these are small groups\, pre-register by the dates shown on the calendar of events or the zoom registration page to ensure your spot. \nPre-register here by September 14th
URL:https://californiahomeschool.net/event/chn-ambassador-info-meeting/
LOCATION:Online
CATEGORIES:Workshop
END:VEVENT
BEGIN:VEVENT
DTSTART;TZID=America/Los_Angeles:20250923T190000
DTEND;TZID=America/Los_Angeles:20250923T200000
DTSTAMP:20260420T112825
CREATED:20250831T204114Z
LAST-MODIFIED:20250921T172234Z
UID:2180-1758654000-1758657600@californiahomeschool.net
SUMMARY:Choose Your Own Homeschool Adventure
DESCRIPTION:For new or exploring homeschool families \nFeeling overwhelmed by all the homeschool options? Come join us for a lighthearted\, interactive session designed to help you discover which homeschooling method best fits your family’s \npersonality\, pace\, and passions! \n  \nWhether you’re drawn to the freedom of unschooling\, the beauty of Charlotte Mason\, the structure of Classical learning\, or something in between—this class will \ngive you a playful peek into each style. \n  \nWe’ll explore real-life examples\, bust common myths\, and guide you through a fun “adventure map” to help you start your journey with confidence and joy. \n  \nWorkshops are interactive and attendee participation is encouraged. These are small group workshops\, which will not be recorded\, but video and microphone are required for participation. Because these are small groups\, pre-register by the dates shown on the calendar of events or the zoom registration page to ensure your spot. \n  \nPre-register here by September 21st
URL:https://californiahomeschool.net/event/choose-your-own-homeschool-adventure-2/
LOCATION:Online
CATEGORIES:Workshop
END:VEVENT
BEGIN:VEVENT
DTSTART;TZID=America/Los_Angeles:20250925T190000
DTEND;TZID=America/Los_Angeles:20250925T200000
DTSTAMP:20260420T112825
CREATED:20250831T204342Z
LAST-MODIFIED:20250922T095623Z
UID:2182-1758826800-1758830400@californiahomeschool.net
SUMMARY:Homeschool Q & As
DESCRIPTION:Homeschool Curious? Confused? Just Need to Vent? Join our Homeschooling Q&A Zoom Session—where questions are always welcome\, curiosity is celebrated\, and “silly” questions simply don’t exist (we prefer to call them brilliantly brave). \nWhether you’re wondering how to teach fractions without tears\, or just need reassurance that your living room counts as a classroom—this is your space. \nNew homeschoolers\, seasoned veterans\, and everyone in between—come hang out\, ask away\, and leave feeling a little more confident (and a lot more supported). \nThis is for members only. It’s casual\, it’s comfy\, and yes—lounging while eating a bag of chips is totally acceptable. \nWorkshops are interactive and attendee participation is encouraged. These are small group workshops\, which will not be recorded\, but video and microphone are required for participation. Because these are small groups\, pre-register by the dates shown on the calendar of events or the zoom registration page to ensure your spot. \nPre-register here by September 23rd
URL:https://californiahomeschool.net/event/q-a/
LOCATION:Online
CATEGORIES:Workshop
END:VEVENT
BEGIN:VEVENT
DTSTART;TZID=America/Los_Angeles:20250930T190000
DTEND;TZID=America/Los_Angeles:20250930T200000
DTSTAMP:20260420T112825
CREATED:20250831T204538Z
LAST-MODIFIED:20250929T123146Z
UID:2184-1759258800-1759262400@californiahomeschool.net
SUMMARY:Planning Your Homeschool Year with Purpose & Peace
DESCRIPTION:Do you have a Plan? Does even thinking about a plan cause you stress? \nThis session will walk you through how to map out your year with flexibility\, intention\, and joy. \nWe’ll talk about: \n+ choosing curriculum \n+ creating rhythms vs. strict schedules \n+ setting long-term goals \n+ leaving space for real-life learning \nYou’ll receive planning tips and ideas to help you start the new year with clarity and confidence. \nWorkshops are interactive and attendee participation is encouraged. These are small group workshops\, which will not be recorded\, but video and microphone are required for participation. Because these are small groups\, pre-register by the dates shown on the calendar of events or the zoom registration page to ensure your spot. \n 
URL:https://californiahomeschool.net/event/planning-your-homeschool-year-with-purpose-peace-2/
LOCATION:Online
CATEGORIES:Workshop
END:VEVENT
END:VCALENDAR