BEGIN:VCALENDAR
VERSION:2.0
PRODID:-//California Homeschool Network - ECPv6.15.20//NONSGML v1.0//EN
CALSCALE:GREGORIAN
METHOD:PUBLISH
X-WR-CALNAME:California Homeschool Network
X-ORIGINAL-URL:https://californiahomeschool.net
X-WR-CALDESC:Events for California Homeschool Network
REFRESH-INTERVAL;VALUE=DURATION:PT1H
X-Robots-Tag:noindex
X-PUBLISHED-TTL:PT1H
BEGIN:VTIMEZONE
TZID:America/Los_Angeles
BEGIN:DAYLIGHT
TZOFFSETFROM:-0800
TZOFFSETTO:-0700
TZNAME:PDT
DTSTART:20230312T100000
END:DAYLIGHT
BEGIN:STANDARD
TZOFFSETFROM:-0700
TZOFFSETTO:-0800
TZNAME:PST
DTSTART:20231105T090000
END:STANDARD
BEGIN:DAYLIGHT
TZOFFSETFROM:-0800
TZOFFSETTO:-0700
TZNAME:PDT
DTSTART:20240310T100000
END:DAYLIGHT
BEGIN:STANDARD
TZOFFSETFROM:-0700
TZOFFSETTO:-0800
TZNAME:PST
DTSTART:20241103T090000
END:STANDARD
BEGIN:DAYLIGHT
TZOFFSETFROM:-0800
TZOFFSETTO:-0700
TZNAME:PDT
DTSTART:20250309T100000
END:DAYLIGHT
BEGIN:STANDARD
TZOFFSETFROM:-0700
TZOFFSETTO:-0800
TZNAME:PST
DTSTART:20251102T090000
END:STANDARD
END:VTIMEZONE
BEGIN:VEVENT
DTSTART;TZID=America/Los_Angeles:20241008T190000
DTEND;TZID=America/Los_Angeles:20241008T200000
DTSTAMP:20260421T043103
CREATED:20240814T161301Z
LAST-MODIFIED:20240817T193047Z
UID:1781-1728414000-1728417600@californiahomeschool.net
SUMMARY:Homeschooling Methods
DESCRIPTION:Join the Homeschooling Methods workshop led by Trina. \nLet’s discuss methods. Are you new to the world of homeschooling? Or just want to change things up a bit? This session explores the different types of homeschooling methods and approaches to get you and your kiddos excited about learning. We cover topics like unschooling\, unit studies\, and directed learning. As well as give an introduction on the Charlotte Mason method\, Montessori\, the Classical approach\, and many others. \nWorkshops are interactive and questions or comments are welcomed by attendees. This is a small group workshop\, which will not be recorded\, but video and a microphone are required for participation. \n\nRegister here.
URL:https://californiahomeschool.net/event/homeschooling-methods/
LOCATION:Online
CATEGORIES:Workshop
END:VEVENT
END:VCALENDAR