BEGIN:VCALENDAR
VERSION:2.0
PRODID:-//California Homeschool Network - ECPv6.15.20//NONSGML v1.0//EN
CALSCALE:GREGORIAN
METHOD:PUBLISH
X-WR-CALNAME:California Homeschool Network
X-ORIGINAL-URL:https://californiahomeschool.net
X-WR-CALDESC:Events for California Homeschool Network
REFRESH-INTERVAL;VALUE=DURATION:PT1H
X-Robots-Tag:noindex
X-PUBLISHED-TTL:PT1H
BEGIN:VTIMEZONE
TZID:America/Los_Angeles
BEGIN:DAYLIGHT
TZOFFSETFROM:-0800
TZOFFSETTO:-0700
TZNAME:PDT
DTSTART:20230312T100000
END:DAYLIGHT
BEGIN:STANDARD
TZOFFSETFROM:-0700
TZOFFSETTO:-0800
TZNAME:PST
DTSTART:20231105T090000
END:STANDARD
BEGIN:DAYLIGHT
TZOFFSETFROM:-0800
TZOFFSETTO:-0700
TZNAME:PDT
DTSTART:20240310T100000
END:DAYLIGHT
BEGIN:STANDARD
TZOFFSETFROM:-0700
TZOFFSETTO:-0800
TZNAME:PST
DTSTART:20241103T090000
END:STANDARD
BEGIN:DAYLIGHT
TZOFFSETFROM:-0800
TZOFFSETTO:-0700
TZNAME:PDT
DTSTART:20250309T100000
END:DAYLIGHT
BEGIN:STANDARD
TZOFFSETFROM:-0700
TZOFFSETTO:-0800
TZNAME:PST
DTSTART:20251102T090000
END:STANDARD
END:VTIMEZONE
BEGIN:VEVENT
DTSTART;TZID=America/Los_Angeles:20240723T190000
DTEND;TZID=America/Los_Angeles:20240723T210000
DTSTAMP:20260422T214841
CREATED:20240712T013709Z
LAST-MODIFIED:20240712T031225Z
UID:1705-1721761200-1721768400@californiahomeschool.net
SUMMARY:Homeschooling 101
DESCRIPTION:Join us for an informative seminar on the basics of homeschooling in California. Whether you’re new to homeschooling or looking for a refresher\, this session covers essential topics such as legal requirements\, the different legal paths for homeschooling\, curriculum options\, and record-keeping. Connect with experienced homeschoolers and get your questions answered. Don’t miss this opportunity to empower your homeschooling journey. \nThis seminar is hosted on site at EIE – Excellence in Education.
URL:https://californiahomeschool.net/event/homeschooling-101/
LOCATION:Excellence in Education\, 2640-A7 S Myrtle Ave\, Monrovia\, CA\, 91016\, United States
CATEGORIES:Seminar
END:VEVENT
BEGIN:VEVENT
DTSTART;TZID=America/Los_Angeles:20240725T190000
DTEND;TZID=America/Los_Angeles:20240725T210000
DTSTAMP:20260422T214841
CREATED:20240712T014729Z
LAST-MODIFIED:20240712T031143Z
UID:1714-1721934000-1721941200@californiahomeschool.net
SUMMARY:High School Seminar
DESCRIPTION:Join us for a seminar all about high school and everything high school entails. This is hosted onsite at EIE – Excellence in Education.
URL:https://californiahomeschool.net/event/high-school-seminar/
LOCATION:Excellence in Education\, 2640-A7 S Myrtle Ave\, Monrovia\, CA\, 91016\, United States
CATEGORIES:Seminar
END:VEVENT
END:VCALENDAR