BEGIN:VCALENDAR
VERSION:2.0
PRODID:-//California Homeschool Network - ECPv6.15.20//NONSGML v1.0//EN
CALSCALE:GREGORIAN
METHOD:PUBLISH
X-WR-CALNAME:California Homeschool Network
X-ORIGINAL-URL:https://californiahomeschool.net
X-WR-CALDESC:Events for California Homeschool Network
REFRESH-INTERVAL;VALUE=DURATION:PT1H
X-Robots-Tag:noindex
X-PUBLISHED-TTL:PT1H
BEGIN:VTIMEZONE
TZID:America/Los_Angeles
BEGIN:DAYLIGHT
TZOFFSETFROM:-0800
TZOFFSETTO:-0700
TZNAME:PDT
DTSTART:20250309T100000
END:DAYLIGHT
BEGIN:STANDARD
TZOFFSETFROM:-0700
TZOFFSETTO:-0800
TZNAME:PST
DTSTART:20251102T090000
END:STANDARD
BEGIN:DAYLIGHT
TZOFFSETFROM:-0800
TZOFFSETTO:-0700
TZNAME:PDT
DTSTART:20260308T100000
END:DAYLIGHT
BEGIN:STANDARD
TZOFFSETFROM:-0700
TZOFFSETTO:-0800
TZNAME:PST
DTSTART:20261101T090000
END:STANDARD
BEGIN:DAYLIGHT
TZOFFSETFROM:-0800
TZOFFSETTO:-0700
TZNAME:PDT
DTSTART:20270314T100000
END:DAYLIGHT
BEGIN:STANDARD
TZOFFSETFROM:-0700
TZOFFSETTO:-0800
TZNAME:PST
DTSTART:20271107T090000
END:STANDARD
END:VTIMEZONE
BEGIN:VEVENT
DTSTART;TZID=America/Los_Angeles:20260130T130000
DTEND;TZID=America/Los_Angeles:20260130T150000
DTSTAMP:20260421T171354
CREATED:20260105T003309Z
LAST-MODIFIED:20260105T003422Z
UID:2411-1769778000-1769785200@californiahomeschool.net
SUMMARY:Park Day in Escondido
DESCRIPTION:Come join Ambassador Sue for Park Day Fun \nWinter Wonder Workshop – January Park Days\nBundle up and join us for our Winter Wonder Workshop park days! Families are invited to enjoy a hands-on winter celebration filled with snowflake crafts\, snowman-themed activities\, creative play\, and plenty of opportunities to connect with other homeschoolers. \nThis workshop-style park day is designed for all ages\, encouraging creativity\, imagination\, and community. Activities may vary by location\, but each gathering will capture the cozy\, playful spirit of winter—no snow required! \nWhether you stay for the whole event or just stop by to say hello\, we’d love to see you there as we kick off the new year with creativity\, connection\, and winter wonder. \n 
URL:https://californiahomeschool.net/event/park-day-in-escondido-2/
LOCATION:Walnut Grove Park\, 1950 Sycamore Drive\,\, Escondido\, CA\, 92069
CATEGORIES:Park Day
END:VEVENT
BEGIN:VEVENT
DTSTART;TZID=America/Los_Angeles:20260211T120000
DTEND;TZID=America/Los_Angeles:20260211T150000
DTSTAMP:20260421T171354
CREATED:20260205T113737Z
LAST-MODIFIED:20260205T113737Z
UID:2456-1770811200-1770822000@californiahomeschool.net
SUMMARY:Park Day at Detert Park
DESCRIPTION:Come join Ambassador Andrea on February 11th from 12-3 pm at Detert Park for Park Day Fun: Jive & Jam \n\nGet ready to twist\, jive\, and jam… \nGet ready to twist\, bop\, and beat the drums! Join us for a Jive & Jam Park Day filled with homemade instruments\, toe-tapping tunes\, and a family-friendly sock hop dance party—complete with a rousing game of freeze dance (always a crowd favorite!). \nAs with all CHN park days\, each gathering may look a little different depending on the area and ambassador plans. Some groups may enjoy Valentine-themed potluck treats or simple crafts. Some might explore more fun DIY instruments like bongos\, shakers and tambourines\, while others add playful\, musical extras like a cupcake-cake walk game. No matter the details\, every park day will be rooted in music\, creativity\, and connection. \nBring your dancing feet\, your biggest smiles\, and a love for making a little joyful noise as we celebrate rhythm\, roots\, and homeschool community together!
URL:https://californiahomeschool.net/event/park-day-at-detert-park-3/
LOCATION:Detert Park\, 108 Court Street\, Jackson\, CA\, 95642
CATEGORIES:Park Day
END:VEVENT
BEGIN:VEVENT
DTSTART;TZID=America/Los_Angeles:20260212T130000
DTEND;TZID=America/Los_Angeles:20260212T150000
DTSTAMP:20260421T171354
CREATED:20260203T222019Z
LAST-MODIFIED:20260203T222019Z
UID:2450-1770901200-1770908400@californiahomeschool.net
SUMMARY:Park Day in Duarte
DESCRIPTION:Come join Ambassador Ilene for Park Day Fun: Jive & Jam \n\nGet ready to twist\, jive\, and jam… \nGet ready to twist\, bop\, and beat the drums! Join us for a Jive & Jam Park Day filled with homemade instruments\, toe-tapping tunes\, and a family-friendly sock hop dance party—complete with a rousing game of freeze dance (always a crowd favorite!). \nAs with all CHN park days\, each gathering may look a little different depending on the area and ambassador plans. Some groups may enjoy Valentine-themed potluck treats or simple crafts. Some might explore more fun DIY instruments like bongos\, shakers and tambourines\, while others add playful\, musical extras like a cupcake-cake walk game. No matter the details\, every park day will be rooted in music\, creativity\, and connection. \nBring your dancing feet\, your biggest smiles\, and a love for making a little joyful noise as we celebrate rhythm\, roots\, and homeschool community together! \n  \n 
URL:https://californiahomeschool.net/event/park-day-in-duarte-3/
LOCATION:Encanto Park\, 777 Encanto Pkwy\, Duarte\, CA\, 91010
CATEGORIES:Park Day
END:VEVENT
BEGIN:VEVENT
DTSTART;TZID=America/Los_Angeles:20260226T100000
DTEND;TZID=America/Los_Angeles:20260226T120000
DTSTAMP:20260421T171354
CREATED:20260205T114038Z
LAST-MODIFIED:20260205T114038Z
UID:2460-1772100000-1772107200@californiahomeschool.net
SUMMARY:Park Day in Rail Road Flat
DESCRIPTION:Come join Ambassador Vera for Park Day Fun: Jive & Jam \n\nGet ready to twist\, jive\, and jam… \nGet ready to twist\, bop\, and beat the drums! Join us for a Jive & Jam Park Day filled with homemade instruments\, toe-tapping tunes\, and a family-friendly sock hop dance party—complete with a rousing game of freeze dance (always a crowd favorite!). \nAs with all CHN park days\, each gathering may look a little different depending on the area and ambassador plans. Some groups may enjoy Valentine-themed potluck treats or simple crafts. Some might explore more fun DIY instruments like bongos\, shakers and tambourines\, while others add playful\, musical extras like a cupcake-cake walk game. No matter the details\, every park day will be rooted in music\, creativity\, and connection. \nBring your dancing feet\, your biggest smiles\, and a love for making a little joyful noise as we celebrate rhythm\, roots\, and homeschool community together!
URL:https://californiahomeschool.net/event/park-day-in-rail-road-flat-3/
LOCATION:Rail Road Flat\, 298 Rail Road Flat Road\, Rail Road Flat\, CA\, 95248\, United States
CATEGORIES:Park Day
END:VEVENT
BEGIN:VEVENT
DTSTART;TZID=America/Los_Angeles:20260227T130000
DTEND;TZID=America/Los_Angeles:20260227T150000
DTSTAMP:20260421T171354
CREATED:20260205T113908Z
LAST-MODIFIED:20260205T113908Z
UID:2458-1772197200-1772204400@californiahomeschool.net
SUMMARY:Park Day in Escondido
DESCRIPTION:Come join Ambassador Sue for Park Day Fun: Jive & Jam \n\nGet ready to twist\, jive\, and jam… \nGet ready to twist\, bop\, and beat the drums! Join us for a Jive & Jam Park Day filled with homemade instruments\, toe-tapping tunes\, and a family-friendly sock hop dance party—complete with a rousing game of freeze dance (always a crowd favorite!). \nAs with all CHN park days\, each gathering may look a little different depending on the area and ambassador plans. Some groups may enjoy Valentine-themed potluck treats or simple crafts. Some might explore more fun DIY instruments like bongos\, shakers and tambourines\, while others add playful\, musical extras like a cupcake-cake walk game. No matter the details\, every park day will be rooted in music\, creativity\, and connection. \nBring your dancing feet\, your biggest smiles\, and a love for making a little joyful noise as we celebrate rhythm\, roots\, and homeschool community together!
URL:https://californiahomeschool.net/event/park-day-in-escondido-3/
LOCATION:Walnut Grove Park\, 1950 Sycamore Drive\,\, Escondido\, CA\, 92069
CATEGORIES:Park Day
END:VEVENT
END:VCALENDAR