BEGIN:VCALENDAR
VERSION:2.0
PRODID:-//California Homeschool Network - ECPv6.15.20//NONSGML v1.0//EN
CALSCALE:GREGORIAN
METHOD:PUBLISH
X-ORIGINAL-URL:https://californiahomeschool.net
X-WR-CALDESC:Events for California Homeschool Network
REFRESH-INTERVAL;VALUE=DURATION:PT1H
X-Robots-Tag:noindex
X-PUBLISHED-TTL:PT1H
BEGIN:VTIMEZONE
TZID:America/Los_Angeles
BEGIN:DAYLIGHT
TZOFFSETFROM:-0800
TZOFFSETTO:-0700
TZNAME:PDT
DTSTART:20240310T100000
END:DAYLIGHT
BEGIN:STANDARD
TZOFFSETFROM:-0700
TZOFFSETTO:-0800
TZNAME:PST
DTSTART:20241103T090000
END:STANDARD
BEGIN:DAYLIGHT
TZOFFSETFROM:-0800
TZOFFSETTO:-0700
TZNAME:PDT
DTSTART:20250309T100000
END:DAYLIGHT
BEGIN:STANDARD
TZOFFSETFROM:-0700
TZOFFSETTO:-0800
TZNAME:PST
DTSTART:20251102T090000
END:STANDARD
BEGIN:DAYLIGHT
TZOFFSETFROM:-0800
TZOFFSETTO:-0700
TZNAME:PDT
DTSTART:20260308T100000
END:DAYLIGHT
BEGIN:STANDARD
TZOFFSETFROM:-0700
TZOFFSETTO:-0800
TZNAME:PST
DTSTART:20261101T090000
END:STANDARD
END:VTIMEZONE
BEGIN:VEVENT
DTSTART;TZID=America/Los_Angeles:20251111T130000
DTEND;TZID=America/Los_Angeles:20251111T160000
DTSTAMP:20260421T032715
CREATED:20251103T204130Z
LAST-MODIFIED:20251104T021154Z
UID:2303-1762866000-1762876800@californiahomeschool.net
SUMMARY:Park Day at Gerald Turner Park
DESCRIPTION:Come join Ambassador Vera on November 11th from 1-4 pm at Gerald Turner Park for an All Things Pumpkin! park day. \n  \nPark Day Fun: All Things Pumpkin! \nGet ready for a gourd-geous day of fall fun!\nJoin us for our November CHN Park Day as we celebrate All Things Pumpkin! Each park day may look a little different depending on the host and location. \nWe’ll have pumpkin-themed games\, crafts\, and activities for all ages — from silly pumpkin bowling and pumpkin tic-tac-toe for little ones to pumpkin candy hunts and pumpkin balancing relay races that get progressively harder the older you are! \nBring your favorite pumpkin treat to share (pumpkin bread\, seeds\, or pie — we love it all!) and enjoy an afternoon of community\, laughter\, and autumn cheer. \nEngage together in fun fall crafts like: Beaded pumpkins\, tissue paper poppies\, or pumpkin seed mosaics! \nGuess the pumpkin weight and Take Your Pic fall photo booth are more examples of some activities you might find this month\, so don’t miss out. \nBring a blanket or chair\, a snack to share if you’d like\, and your smiles! Remember that Park Day festivities vary by host and location\, but the positive friendly atmosphere is always the same! \nWhether you’re new to CHN or a familiar face\, this is a perfect day to connect\, play\, and celebrate the season together. \nWe can’t wait to see you there!
URL:https://californiahomeschool.net/event/park-day-at-gerald-turner-park/
LOCATION:Gerald Turner Park\, 287 Treat Avenue\, San Andreas\, CA\, 95249
CATEGORIES:Park Day
END:VEVENT
BEGIN:VEVENT
DTSTART;TZID=America/Los_Angeles:20251119T130000
DTEND;TZID=America/Los_Angeles:20251119T160000
DTSTAMP:20260421T032715
CREATED:20251103T205202Z
LAST-MODIFIED:20251103T205202Z
UID:2309-1763557200-1763568000@californiahomeschool.net
SUMMARY:Park Day at Detert Park
DESCRIPTION:Come join Ambassador Andrea on November 19th from 1-4 pm at Detert Park for an All Things Pumpkin! park day. \n  \nPark Day Fun: All Things Pumpkin! \nGet ready for a gourd-geous day of fall fun!\nJoin us for our November CHN Park Day as we celebrate All Things Pumpkin! Each park day may look a little different depending on the host and location. \nWe’ll have pumpkin-themed games\, crafts\, and activities for all ages — from silly pumpkin bowling and pumpkin tic-tac-toe for little ones to pumpkin candy hunts and pumpkin balancing relay races that get progressively harder the older you are! \nBring your favorite pumpkin treat to share (pumpkin bread\, seeds\, or pie — we love it all!) and enjoy an afternoon of community\, laughter\, and autumn cheer. \nEngage together in fun fall crafts like: Beaded pumpkins\, tissue paper poppies\, or pumpkin seed mosaics! \nGuess the pumpkin weight and Take Your Pic fall photo booth are more examples of some activities you might find this month\, so don’t miss out. \nBring a blanket or chair\, a snack to share if you’d like\, and your smiles! Remember that Park Day festivities vary by host and location\, but the positive friendly atmosphere is always the same! \nWhether you’re new to CHN or a familiar face\, this is a perfect day to connect\, play\, and celebrate the season together. \nWe can’t wait to see you there!
URL:https://californiahomeschool.net/event/park-day-at-detert-park/
LOCATION:Detert Park\, 108 Court Street\, Jackson\, CA\, 95642
CATEGORIES:Park Day
END:VEVENT
BEGIN:VEVENT
DTSTART;TZID=America/Los_Angeles:20251120T130000
DTEND;TZID=America/Los_Angeles:20251120T150000
DTSTAMP:20260421T032715
CREATED:20251103T205550Z
LAST-MODIFIED:20251103T205550Z
UID:2312-1763643600-1763650800@californiahomeschool.net
SUMMARY:Park Day at Encanto Park
DESCRIPTION:Come join Ambassador Eileen on November 20th at 1 pm at Encanto Park for an All Things Pumpkin! park day. \n  \nPark Day Fun: All Things Pumpkin! \nGet ready for a gourd-geous day of fall fun!\nJoin us for our November CHN Park Day as we celebrate All Things Pumpkin! Each park day may look a little different depending on the host and location. \nWe’ll have pumpkin-themed games\, crafts\, and activities for all ages — from silly pumpkin bowling and pumpkin tic-tac-toe for little ones to pumpkin candy hunts and pumpkin balancing relay races that get progressively harder the older you are! \nBring your favorite pumpkin treat to share (pumpkin bread\, seeds\, or pie — we love it all!) and enjoy an afternoon of community\, laughter\, and autumn cheer. \nEngage together in fun fall crafts like: Beaded pumpkins\, tissue paper poppies\, or pumpkin seed mosaics! \nGuess the pumpkin weight and Take Your Pic fall photo booth are more examples of some activities you might find this month\, so don’t miss out. \nBring a blanket or chair\, a snack to share if you’d like\, and your smiles! Remember that Park Day festivities vary by host and location\, but the positive friendly atmosphere is always the same! \nWhether you’re new to CHN or a familiar face\, this is a perfect day to connect\, play\, and celebrate the season together. \nWe can’t wait to see you there!
URL:https://californiahomeschool.net/event/park-day-at-encanto-park/
LOCATION:Encanto Park\, 777 Encanto Pkwy\, Duarte\, CA\, 91010
CATEGORIES:Park Day
END:VEVENT
BEGIN:VEVENT
DTSTART;TZID=America/Los_Angeles:20251125T140000
DTEND;TZID=America/Los_Angeles:20251125T150000
DTSTAMP:20260421T032715
CREATED:20251103T204659Z
LAST-MODIFIED:20251117T234224Z
UID:2306-1764079200-1764082800@californiahomeschool.net
SUMMARY:Park Day at Walnut Grove Park
DESCRIPTION:Due to Rain – Date change…. \nCome join Ambassador Sue on November 25th at 2 pm at Walnut Grove Park for an All Things Pumpkin! park day. \nMeet at the Red Barn \nPark Day Fun: All Things Pumpkin! \nGet ready for a gourd-geous day of fall fun!\nJoin us for our November CHN Park Day as we celebrate All Things Pumpkin! Each park day may look a little different depending on the host and location. \nWe’ll have pumpkin-themed games\, crafts\, and activities for all ages — from silly pumpkin bowling and pumpkin tic-tac-toe for little ones to pumpkin candy hunts and pumpkin balancing relay races that get progressively harder the older you are! \nBring your favorite pumpkin treat to share (pumpkin bread\, seeds\, or pie — we love it all!) and enjoy an afternoon of community\, laughter\, and autumn cheer. \nEngage together in fun fall crafts like: Beaded pumpkins\, tissue paper poppies\, or pumpkin seed mosaics! \nGuess the pumpkin weight and Take Your Pic fall photo booth are more examples of some activities you might find this month\, so don’t miss out. \nBring a blanket or chair\, a snack to share if you’d like\, and your smiles! Remember that Park Day festivities vary by host and location\, but the positive friendly atmosphere is always the same! \nWhether you’re new to CHN or a familiar face\, this is a perfect day to connect\, play\, and celebrate the season together. \nWe can’t wait to see you there!
URL:https://californiahomeschool.net/event/park-day-at-walnut-grove-park/
LOCATION:Walnut Grove Park\, 1950 Sycamore Drive\,\, Escondido\, CA\, 92069
CATEGORIES:Park Day
END:VEVENT
BEGIN:VEVENT
DTSTART;TZID=America/Los_Angeles:20251125T150000
DTEND;TZID=America/Los_Angeles:20251125T170000
DTSTAMP:20260421T032715
CREATED:20251103T205940Z
LAST-MODIFIED:20251103T205940Z
UID:2315-1764082800-1764090000@californiahomeschool.net
SUMMARY:Park Day at Trainor Park
DESCRIPTION:Come join our CHN Host on November 25th at 3 pm at Trainor Park for an All Things Pumpkin! park day. \n  \nPark Day Fun: All Things Pumpkin! \nGet ready for a gourd-geous day of fall fun!\nJoin us for our November CHN Park Day as we celebrate All Things Pumpkin! Each park day may look a little different depending on the host and location. \nWe’ll have pumpkin-themed games\, crafts\, and activities for all ages — from silly pumpkin bowling and pumpkin tic-tac-toe for little ones to pumpkin candy hunts and pumpkin balancing relay races that get progressively harder the older you are! \nBring your favorite pumpkin treat to share (pumpkin bread\, seeds\, or pie — we love it all!) and enjoy an afternoon of community\, laughter\, and autumn cheer. \nEngage together in fun fall crafts like: Beaded pumpkins\, tissue paper poppies\, or pumpkin seed mosaics! \nGuess the pumpkin weight and Take Your Pic fall photo booth are more examples of some activities you might find this month\, so don’t miss out. \nBring a blanket or chair\, a snack to share if you’d like\, and your smiles! Remember that Park Day festivities vary by host and location\, but the positive friendly atmosphere is always the same! \nWhether you’re new to CHN or a familiar face\, this is a perfect day to connect\, play\, and celebrate the season together. \nWe can’t wait to see you there!
URL:https://californiahomeschool.net/event/park-day-at-trainor-park/
LOCATION:Trainor Park\, 1000 Trainor St.\, Red Bluff\, CA\, 96080
CATEGORIES:Park Day
END:VEVENT
BEGIN:VEVENT
DTSTART;TZID=America/Los_Angeles:20251126T150000
DTEND;TZID=America/Los_Angeles:20251126T170000
DTSTAMP:20260421T032715
CREATED:20251103T210405Z
LAST-MODIFIED:20251103T210405Z
UID:2318-1764169200-1764176400@californiahomeschool.net
SUMMARY:Park Day at Rivercrest Park
DESCRIPTION:Come join our CHN Host on November 26th at 3 pm at Rivercrest Park for an All Things Pumpkin! park day. \n  \nPark Day Fun: All Things Pumpkin! \nGet ready for a gourd-geous day of fall fun!\nJoin us for our November CHN Park Day as we celebrate All Things Pumpkin! Each park day may look a little different depending on the host and location. \nWe’ll have pumpkin-themed games\, crafts\, and activities for all ages — from silly pumpkin bowling and pumpkin tic-tac-toe for little ones to pumpkin candy hunts and pumpkin balancing relay races that get progressively harder the older you are! \nBring your favorite pumpkin treat to share (pumpkin bread\, seeds\, or pie — we love it all!) and enjoy an afternoon of community\, laughter\, and autumn cheer. \nEngage together in fun fall crafts like: Beaded pumpkins\, tissue paper poppies\, or pumpkin seed mosaics! \nGuess the pumpkin weight and Take Your Pic fall photo booth are more examples of some activities you might find this month\, so don’t miss out. \nBring a blanket or chair\, a snack to share if you’d like\, and your smiles! Remember that Park Day festivities vary by host and location\, but the positive friendly atmosphere is always the same! \nWhether you’re new to CHN or a familiar face\, this is a perfect day to connect\, play\, and celebrate the season together. \nWe can’t wait to see you there!
URL:https://californiahomeschool.net/event/park-day-at-rivercrest-park/
LOCATION:Rivercrest Park\, 800 Woodacre Dr.\, Redding\, CA\, 96002
CATEGORIES:Park Day
END:VEVENT
END:VCALENDAR