BEGIN:VCALENDAR
VERSION:2.0
PRODID:-//California Homeschool Network - ECPv6.15.20//NONSGML v1.0//EN
CALSCALE:GREGORIAN
METHOD:PUBLISH
X-WR-CALNAME:California Homeschool Network
X-ORIGINAL-URL:https://californiahomeschool.net
X-WR-CALDESC:Events for California Homeschool Network
REFRESH-INTERVAL;VALUE=DURATION:PT1H
X-Robots-Tag:noindex
X-PUBLISHED-TTL:PT1H
BEGIN:VTIMEZONE
TZID:America/Los_Angeles
BEGIN:DAYLIGHT
TZOFFSETFROM:-0800
TZOFFSETTO:-0700
TZNAME:PDT
DTSTART:20240310T100000
END:DAYLIGHT
BEGIN:STANDARD
TZOFFSETFROM:-0700
TZOFFSETTO:-0800
TZNAME:PST
DTSTART:20241103T090000
END:STANDARD
BEGIN:DAYLIGHT
TZOFFSETFROM:-0800
TZOFFSETTO:-0700
TZNAME:PDT
DTSTART:20250309T100000
END:DAYLIGHT
BEGIN:STANDARD
TZOFFSETFROM:-0700
TZOFFSETTO:-0800
TZNAME:PST
DTSTART:20251102T090000
END:STANDARD
BEGIN:DAYLIGHT
TZOFFSETFROM:-0800
TZOFFSETTO:-0700
TZNAME:PDT
DTSTART:20260308T100000
END:DAYLIGHT
BEGIN:STANDARD
TZOFFSETFROM:-0700
TZOFFSETTO:-0800
TZNAME:PST
DTSTART:20261101T090000
END:STANDARD
END:VTIMEZONE
BEGIN:VEVENT
DTSTART;TZID=America/Los_Angeles:20251013T190000
DTEND;TZID=America/Los_Angeles:20251013T203000
DTSTAMP:20260419T091251
CREATED:20251009T195731Z
LAST-MODIFIED:20251015T211041Z
UID:2260-1760382000-1760387400@californiahomeschool.net
SUMMARY:A Cozy Gathering for Homeschool Parents
DESCRIPTION:As the leaves begin to turn and the rhythm of fall settles in\, we’re thrilled to invite our homeschool parent community to join us for a special Members-Only October Book Club—a space to connect\, reflect\, and grow together. To become a member\, please go here: https://californiahomeschool.net/product/membership/ \nThis month’s selection is The Successful Homeschool Family Handbook by Dr. Raymond and Dorothy Moore—a trusted guide that has empowered thousands of families to embrace a more relaxed\, joyful\, and effective approach to homeschooling. Whether you’re just starting your journey or have years of experience\, this book offers practical wisdom\, encouragement\, and a refreshing perspective on what truly matters in home education. \nWhy Join Us? \n\nEnjoy meaningful\, open discussion in a small\, supportive group\nExplore ideas that challenge the pressure of “doing it all”\nShare your own experiences and learn from others\nBuild deeper connections with fellow members\n\nBook Club Begins: October 6th at 7pm for roughly 1½ hours and will continue every Monday until the middle of November. Spots are limited to keep the conversation intimate—RSVP by October 4th to secure your place! Be sure to order your copy early so you’re ready to dive in. \nNot yet a member? This is the perfect time to join and be part of something enriching. Membership opens the door to exclusive gatherings like this one—and we’d love to welcome you in. \nLet’s turn the page together this October! \nWorkshops are interactive and attendee participation is encouraged. These are small group workshops\, which will not be recorded\, but video and microphone are required for participation.
URL:https://californiahomeschool.net/event/a-cozy-gathering-for-homeschool-parents-2/
LOCATION:Online
CATEGORIES:Book Club,Member Only Event
END:VEVENT
END:VCALENDAR