BEGIN:VCALENDAR
VERSION:2.0
PRODID:-//California Homeschool Network - ECPv6.15.20//NONSGML v1.0//EN
CALSCALE:GREGORIAN
METHOD:PUBLISH
X-ORIGINAL-URL:https://californiahomeschool.net
X-WR-CALDESC:Events for California Homeschool Network
REFRESH-INTERVAL;VALUE=DURATION:PT1H
X-Robots-Tag:noindex
X-PUBLISHED-TTL:PT1H
BEGIN:VTIMEZONE
TZID:America/Los_Angeles
BEGIN:DAYLIGHT
TZOFFSETFROM:-0800
TZOFFSETTO:-0700
TZNAME:PDT
DTSTART:20240310T100000
END:DAYLIGHT
BEGIN:STANDARD
TZOFFSETFROM:-0700
TZOFFSETTO:-0800
TZNAME:PST
DTSTART:20241103T090000
END:STANDARD
BEGIN:DAYLIGHT
TZOFFSETFROM:-0800
TZOFFSETTO:-0700
TZNAME:PDT
DTSTART:20250309T100000
END:DAYLIGHT
BEGIN:STANDARD
TZOFFSETFROM:-0700
TZOFFSETTO:-0800
TZNAME:PST
DTSTART:20251102T090000
END:STANDARD
BEGIN:DAYLIGHT
TZOFFSETFROM:-0800
TZOFFSETTO:-0700
TZNAME:PDT
DTSTART:20260308T100000
END:DAYLIGHT
BEGIN:STANDARD
TZOFFSETFROM:-0700
TZOFFSETTO:-0800
TZNAME:PST
DTSTART:20261101T090000
END:STANDARD
END:VTIMEZONE
BEGIN:VEVENT
DTSTART;TZID=America/Los_Angeles:20250510T110000
DTEND;TZID=America/Los_Angeles:20250510T120000
DTSTAMP:20260421T143450
CREATED:20250429T132920Z
LAST-MODIFIED:20250430T183718Z
UID:2023-1746874800-1746878400@californiahomeschool.net
SUMMARY:Virtual Poetry and Tea Party
DESCRIPTION:Member only event.  \nPour a cup of joy and join us for a delightful gathering of words and wonder! Families are invited to cozy up with their favorite tea\, cocoa\, or lemonade and enjoy an hour of shared poetry\, creativity\, and connection. We’ll read aloud from beloved poems (and maybe a few original ones!)\, play a few fun and easy word games\, and even try our hand at crafting simple verses together. All ages are welcome — whether you’re a tiny rhymer or a seasoned stanza-spinner. Pajamas and fancy hats are equally encouraged!\nBring your favorite snack\, a notebook (for doodles and writing)\, and your imagination-because magic happens when poetry and tea come together. \nPrerequisite• A joyful spirit and a listening ear! \nOptional – Your favorite lighthearted poem to share. (personally created or from another poet) \nOur online Zoom workshops/sessions are small group meetings\, which will not be recorded\, but video and microphone are required for participation. \nRegister Here.
URL:https://californiahomeschool.net/event/virtual-poetry-and-tea-party/
LOCATION:Online
CATEGORIES:Member Only Event,Online
END:VEVENT
END:VCALENDAR