BEGIN:VCALENDAR
VERSION:2.0
PRODID:-//California Homeschool Network - ECPv6.15.20//NONSGML v1.0//EN
CALSCALE:GREGORIAN
METHOD:PUBLISH
X-WR-CALNAME:California Homeschool Network
X-ORIGINAL-URL:https://californiahomeschool.net
X-WR-CALDESC:Events for California Homeschool Network
REFRESH-INTERVAL;VALUE=DURATION:PT1H
X-Robots-Tag:noindex
X-PUBLISHED-TTL:PT1H
BEGIN:VTIMEZONE
TZID:America/Los_Angeles
BEGIN:DAYLIGHT
TZOFFSETFROM:-0800
TZOFFSETTO:-0700
TZNAME:PDT
DTSTART:20240310T100000
END:DAYLIGHT
BEGIN:STANDARD
TZOFFSETFROM:-0700
TZOFFSETTO:-0800
TZNAME:PST
DTSTART:20241103T090000
END:STANDARD
BEGIN:DAYLIGHT
TZOFFSETFROM:-0800
TZOFFSETTO:-0700
TZNAME:PDT
DTSTART:20250309T100000
END:DAYLIGHT
BEGIN:STANDARD
TZOFFSETFROM:-0700
TZOFFSETTO:-0800
TZNAME:PST
DTSTART:20251102T090000
END:STANDARD
BEGIN:DAYLIGHT
TZOFFSETFROM:-0800
TZOFFSETTO:-0700
TZNAME:PDT
DTSTART:20260308T100000
END:DAYLIGHT
BEGIN:STANDARD
TZOFFSETFROM:-0700
TZOFFSETTO:-0800
TZNAME:PST
DTSTART:20261101T090000
END:STANDARD
END:VTIMEZONE
BEGIN:VEVENT
DTSTART;TZID=America/Los_Angeles:20250725T150000
DTEND;TZID=America/Los_Angeles:20250726T170000
DTSTAMP:20260421T182520
CREATED:20250613T192744Z
LAST-MODIFIED:20250613T192744Z
UID:2124-1753455600-1753549200@californiahomeschool.net
SUMMARY:Northern California Homeschool Convention
DESCRIPTION:CHN will be in the vendor hall at the convention. Information about the convention is here. \n 
URL:https://californiahomeschool.net/event/northern-california-homeschool-convention/
LOCATION:Destiny Community Center 6850 Five Star Blvd. Rocklin\, CA 95677\, 6850 Five Star Blvd.\, Rocklin\, 95677\, United States
CATEGORIES:Conference
END:VEVENT
END:VCALENDAR